BEGIN:VCALENDAR
VERSION:2.0
PRODID:-//ESCUELA MAR AZUL. - ECPv6.1.3//NONSGML v1.0//EN
CALSCALE:GREGORIAN
METHOD:PUBLISH
X-ORIGINAL-URL:https://escuelamarazul.cl
X-WR-CALDESC:Events for ESCUELA MAR AZUL.
REFRESH-INTERVAL;VALUE=DURATION:PT1H
X-Robots-Tag:noindex
X-PUBLISHED-TTL:PT1H
BEGIN:VTIMEZONE
TZID:UTC
BEGIN:STANDARD
TZOFFSETFROM:+0000
TZOFFSETTO:+0000
TZNAME:UTC
DTSTART:20230101T000000
END:STANDARD
END:VTIMEZONE
BEGIN:VEVENT
DTSTART;VALUE=DATE:20230908
DTEND;VALUE=DATE:20230909
DTSTAMP:20260423T154204
CREATED:20230822T164025Z
LAST-MODIFIED:20230822T164052Z
UID:7641-1694131200-1694217599@escuelamarazul.cl
SUMMARY:Consejo de Evaluación
DESCRIPTION:CONSEJO DE EVALUACIÓN SEGUNDO TRIMESTRE \n“Estudiantes sin Clases
URL:https://escuelamarazul.cl/event/consejo-de-evaluacion/
END:VEVENT
END:VCALENDAR