BEGIN:VCALENDAR
VERSION:2.0
PRODID:-//ESCUELA MAR AZUL. - ECPv6.1.3//NONSGML v1.0//EN
CALSCALE:GREGORIAN
METHOD:PUBLISH
X-WR-CALNAME:ESCUELA MAR AZUL.
X-ORIGINAL-URL:https://escuelamarazul.cl
X-WR-CALDESC:Events for ESCUELA MAR AZUL.
REFRESH-INTERVAL;VALUE=DURATION:PT1H
X-Robots-Tag:noindex
X-PUBLISHED-TTL:PT1H
BEGIN:VTIMEZONE
TZID:UTC
BEGIN:STANDARD
TZOFFSETFROM:+0000
TZOFFSETTO:+0000
TZNAME:UTC
DTSTART:20230101T000000
END:STANDARD
END:VTIMEZONE
BEGIN:VEVENT
DTSTART;TZID=UTC:20230911T080000
DTEND;TZID=UTC:20230911T170000
DTSTAMP:20260423T154642
CREATED:20230822T164215Z
LAST-MODIFIED:20230822T164215Z
UID:7643-1694419200-1694451600@escuelamarazul.cl
SUMMARY:Consejo Planificación
DESCRIPTION:Consejo de Planificación tercer trimestre
URL:https://escuelamarazul.cl/event/consejo-planificacion/
END:VEVENT
END:VCALENDAR