BEGIN:VCALENDAR
VERSION:2.0
PRODID:-//ESCUELA MAR AZUL. - ECPv6.1.3//NONSGML v1.0//EN
CALSCALE:GREGORIAN
METHOD:PUBLISH
X-ORIGINAL-URL:https://escuelamarazul.cl
X-WR-CALDESC:Events for ESCUELA MAR AZUL.
REFRESH-INTERVAL;VALUE=DURATION:PT1H
X-Robots-Tag:noindex
X-PUBLISHED-TTL:PT1H
BEGIN:VTIMEZONE
TZID:UTC
BEGIN:STANDARD
TZOFFSETFROM:+0000
TZOFFSETTO:+0000
TZNAME:UTC
DTSTART:20230101T000000
END:STANDARD
END:VTIMEZONE
BEGIN:VEVENT
DTSTART;TZID=UTC:20230918T080000
DTEND;TZID=UTC:20230922T170000
DTSTAMP:20260423T183953
CREATED:20230822T165350Z
LAST-MODIFIED:20230822T175547Z
UID:7653-1695024000-1695402000@escuelamarazul.cl
SUMMARY:Receso Académico
DESCRIPTION:Semana sin clases
URL:https://escuelamarazul.cl/event/receso-academico/
END:VEVENT
END:VCALENDAR